BEGIN:VCALENDAR
VERSION:2.0
PRODID:-//kingfishere1f1500b.brizy.site//NONSGML kigkonsult.se iCalcreator 
 2.39.1//
CALSCALE:GREGORIAN
METHOD:PUBLISH
UID:6c2170f2-0d31-4d13-88b3-1608c314389a
X-WR-CALNAME:kingfishere1f1500b.brizy.site
X-WR-CALDESC:kingfishere1f1500b.brizy.site
X-WR-TIMEZONE:America/Los_Angeles
X-LIC-LOCATION:America/Los_Angeles
BEGIN:VEVENT
UID:79f5b44d-9ef4-432e-948d-80abec260f76
DTSTAMP:20260421T090344Z
CLASS:PUBLIC
DTSTART;TZID=America/Los_Angeles:20260421T180000
DTEND;TZID=America/Los_Angeles:20260421T200000
SUMMARY:Class Example 5
TRANSP:OPAQUE
BEGIN:VALARM
ACTION:DISPLAY
DESCRIPTION:Class Example 5
TRIGGER:-PT15M
END:VALARM
END:VEVENT
END:VCALENDAR
